BEGIN:VCALENDAR
VERSION:2.0
PRODID:-//Saint Paul Episcopal Church - Columbia, PA - ECPv6.15.20//NONSGML v1.0//EN
CALSCALE:GREGORIAN
METHOD:PUBLISH
X-ORIGINAL-URL:https://www.saintpaulcolumbia.org
X-WR-CALDESC:Events for Saint Paul Episcopal Church - Columbia, PA
REFRESH-INTERVAL;VALUE=DURATION:PT1H
X-Robots-Tag:noindex
X-PUBLISHED-TTL:PT1H
BEGIN:VTIMEZONE
TZID:America/New_York
BEGIN:DAYLIGHT
TZOFFSETFROM:-0500
TZOFFSETTO:-0400
TZNAME:EDT
DTSTART:20250309T070000
END:DAYLIGHT
BEGIN:STANDARD
TZOFFSETFROM:-0400
TZOFFSETTO:-0500
TZNAME:EST
DTSTART:20251102T060000
END:STANDARD
BEGIN:DAYLIGHT
TZOFFSETFROM:-0500
TZOFFSETTO:-0400
TZNAME:EDT
DTSTART:20260308T070000
END:DAYLIGHT
BEGIN:STANDARD
TZOFFSETFROM:-0400
TZOFFSETTO:-0500
TZNAME:EST
DTSTART:20261101T060000
END:STANDARD
BEGIN:DAYLIGHT
TZOFFSETFROM:-0500
TZOFFSETTO:-0400
TZNAME:EDT
DTSTART:20270314T070000
END:DAYLIGHT
BEGIN:STANDARD
TZOFFSETFROM:-0400
TZOFFSETTO:-0500
TZNAME:EST
DTSTART:20271107T060000
END:STANDARD
END:VTIMEZONE
BEGIN:VEVENT
DTSTART;TZID=America/New_York:20260104T090000
DTEND;TZID=America/New_York:20260104T100000
DTSTAMP:20260424T043102
CREATED:20251230T161843Z
LAST-MODIFIED:20251230T161843Z
UID:10000343-1767517200-1767520800@www.saintpaulcolumbia.org
SUMMARY:Holy Eucharist - Rite II
DESCRIPTION:The Second Sunday After Christmas – Eve of the Epiphany \nAs Jesus shared our humanity\, we are invited to share in his divine life. \nJeremiah 31:7-14 \nPsalm 84 \nEphesians 1:3-6\, 15-19a \nMatthew 2:13-15\, 19-23
URL:https://www.saintpaulcolumbia.org/event/holy-eucharist-rite-ii-17/
ATTACH;FMTTYPE=image/png:https://www.saintpaulcolumbia.org/wp-content/uploads/Copy-of-midday-mass-5-1.png
END:VEVENT
BEGIN:VEVENT
DTSTART;TZID=America/New_York:20260106T120000
DTEND;TZID=America/New_York:20260106T123000
DTSTAMP:20260424T043102
CREATED:20251230T162545Z
LAST-MODIFIED:20251230T162545Z
UID:10000345-1767700800-1767702600@www.saintpaulcolumbia.org
SUMMARY:Midday Mass
DESCRIPTION:The Epiphany \nThe significance of Jesus’ birth is revealed to the world beyond Judea. The Manifestation of Christ to the Gentiles. \nIsaiah 60:1-6 \nPsalm 72:1-7\, 10-14 \nEphesians 3:1-12 \nMatthew 2:1-12
URL:https://www.saintpaulcolumbia.org/event/midday-mass-18/
CATEGORIES:Midday Mass
ATTACH;FMTTYPE=image/png:https://www.saintpaulcolumbia.org/wp-content/uploads/Copy-of-midday-mass-1.png
END:VEVENT
BEGIN:VEVENT
DTSTART;TZID=America/New_York:20260106T180000
DTEND;TZID=America/New_York:20260106T183000
DTSTAMP:20260424T043102
CREATED:20251230T162735Z
LAST-MODIFIED:20251230T162735Z
UID:10000346-1767722400-1767724200@www.saintpaulcolumbia.org
SUMMARY:Holy Eucharist - Rite II
DESCRIPTION:The Epiphany \nThe significance of Jesus’ birth is revealed to the world beyond Judea. The Manifestation of Christ to the Gentiles. \nIsaiah 60:1-6 \nPsalm 72:1-7\, 10-14 \nEphesians 3:1-12 \nMatthew 2:1-12
URL:https://www.saintpaulcolumbia.org/event/holy-eucharist-rite-ii-18/
CATEGORIES:Holy Eucharist
ATTACH;FMTTYPE=image/png:https://www.saintpaulcolumbia.org/wp-content/uploads/Epiphany-Header.png
END:VEVENT
BEGIN:VEVENT
DTSTART;TZID=America/New_York:20260111T090000
DTEND;TZID=America/New_York:20260111T120000
DTSTAMP:20260424T043102
CREATED:20251230T162211Z
LAST-MODIFIED:20251230T162223Z
UID:10000344-1768122000-1768132800@www.saintpaulcolumbia.org
SUMMARY:Holy Eucharist - Rite II & Bishop's Visit
DESCRIPTION:*Today we welcome Bishop Audrey Scanlan to Saint Paul. We will welcome new members and celebrate new baptisms. \nA luncheon and vestry meeting will follow the service.* \nThe First Sunday after the Epiphany: The Baptism of Our Lord Jesus Christ \nHere is my servant\, whom I uphold\, my chosen\, in whom my soul delights. \nIsaiah 42: 1-9 \nPsalm 29 \nActs 10:34-43 \nMatthew 3:13-17 \n 
URL:https://www.saintpaulcolumbia.org/event/holy-eucharist-rite-ii-bishop/
CATEGORIES:Holy Eucharist
ATTACH;FMTTYPE=image/png:https://www.saintpaulcolumbia.org/wp-content/uploads/Copy-of-midday-mass-5-1.png
END:VEVENT
BEGIN:VEVENT
DTSTART;TZID=America/New_York:20260118T090000
DTEND;TZID=America/New_York:20260118T100000
DTSTAMP:20260424T043102
CREATED:20260113T165630Z
LAST-MODIFIED:20260113T170853Z
UID:10000347-1768726800-1768730400@www.saintpaulcolumbia.org
SUMMARY:Morning Prayer - Rite II
DESCRIPTION:The Second Sunday after the Epiphany \nHere is the Lamb of God who takes away the sin of the world! \nPsalm 40:1-12 \n1 Corinthians 1:1-9 \nJohn 1:29-42
URL:https://www.saintpaulcolumbia.org/event/morning-prayer-rite-ii-3/
CATEGORIES:Morning Prayer
ATTACH;FMTTYPE=image/png:https://www.saintpaulcolumbia.org/wp-content/uploads/Copy-of-midday-mass-4.png
END:VEVENT
BEGIN:VEVENT
DTSTART;TZID=America/New_York:20260120T120000
DTEND;TZID=America/New_York:20260120T123000
DTSTAMP:20260424T043102
CREATED:20260113T165932Z
LAST-MODIFIED:20260113T165932Z
UID:10000348-1768910400-1768912200@www.saintpaulcolumbia.org
SUMMARY:Midday Mass
DESCRIPTION:Fabian\, Bishop and Martyr\, 250 \n2 Esdras 2:42-48 \nPsalm 6 \n1 Corinthians 15:35-44 \nMatthew 10:24-31
URL:https://www.saintpaulcolumbia.org/event/midday-mass-19/
CATEGORIES:Midday Mass
ATTACH;FMTTYPE=image/png:https://www.saintpaulcolumbia.org/wp-content/uploads/Copy-of-midday-mass-1.png
END:VEVENT
BEGIN:VEVENT
DTSTART;TZID=America/New_York:20260125T090000
DTEND;TZID=America/New_York:20260125T100000
DTSTAMP:20260424T043102
CREATED:20260113T170703Z
LAST-MODIFIED:20260113T170703Z
UID:10000349-1769331600-1769335200@www.saintpaulcolumbia.org
SUMMARY:Holy Eucharist - Rite II
DESCRIPTION:The Third Sunday after the Epiphany \nJesus calls his first disciples \nIsaiah 9:1-4 \nPsalm 27:1 \n1 Corinthians 1:10-18 \nMatthew 4:12-23
URL:https://www.saintpaulcolumbia.org/event/holy-eucharist-rite-ii-19/
CATEGORIES:Holy Eucharist
ATTACH;FMTTYPE=image/png:https://www.saintpaulcolumbia.org/wp-content/uploads/Copy-of-midday-mass-5-1.png
END:VEVENT
END:VCALENDAR