BEGIN:VCALENDAR
VERSION:2.0
PRODID:-//Saint Paul Episcopal Church - Columbia, PA - ECPv6.15.20//NONSGML v1.0//EN
CALSCALE:GREGORIAN
METHOD:PUBLISH
X-ORIGINAL-URL:https://www.saintpaulcolumbia.org
X-WR-CALDESC:Events for Saint Paul Episcopal Church - Columbia, PA
REFRESH-INTERVAL;VALUE=DURATION:PT1H
X-Robots-Tag:noindex
X-PUBLISHED-TTL:PT1H
BEGIN:VTIMEZONE
TZID:America/New_York
BEGIN:DAYLIGHT
TZOFFSETFROM:-0500
TZOFFSETTO:-0400
TZNAME:EDT
DTSTART:20240310T070000
END:DAYLIGHT
BEGIN:STANDARD
TZOFFSETFROM:-0400
TZOFFSETTO:-0500
TZNAME:EST
DTSTART:20241103T060000
END:STANDARD
BEGIN:DAYLIGHT
TZOFFSETFROM:-0500
TZOFFSETTO:-0400
TZNAME:EDT
DTSTART:20250309T070000
END:DAYLIGHT
BEGIN:STANDARD
TZOFFSETFROM:-0400
TZOFFSETTO:-0500
TZNAME:EST
DTSTART:20251102T060000
END:STANDARD
BEGIN:DAYLIGHT
TZOFFSETFROM:-0500
TZOFFSETTO:-0400
TZNAME:EDT
DTSTART:20260308T070000
END:DAYLIGHT
BEGIN:STANDARD
TZOFFSETFROM:-0400
TZOFFSETTO:-0500
TZNAME:EST
DTSTART:20261101T060000
END:STANDARD
END:VTIMEZONE
BEGIN:VEVENT
DTSTART;TZID=America/New_York:20251204T160000
DTEND;TZID=America/New_York:20251204T190000
DTSTAMP:20260424T062103
CREATED:20251106T154009Z
LAST-MODIFIED:20251106T154009Z
UID:10000339-1764864000-1764874800@www.saintpaulcolumbia.org
SUMMARY:Dine Out Fundraiser at Hinkle's!
DESCRIPTION:Dine at Hinkle’s tonight between 4 and 7pm. \n10% of all sales during this time will be donated to Saint Paul’s! \nCheck out the menu at   http://www.hinklesrestaurant.com
URL:https://www.saintpaulcolumbia.org/event/dine-out-fundraiser-at-hinkles/
LOCATION:Hinkle’s Restaurant\, 261 Locust Street\, Columbia\, PA\, 17512\, United States
ATTACH;FMTTYPE=image/jpeg:https://www.saintpaulcolumbia.org/wp-content/uploads/Hinkles-Logo-CMYK-Vertical-1024x574-1.jpeg
END:VEVENT
BEGIN:VEVENT
DTSTART;TZID=America/New_York:20251221T090000
DTEND;TZID=America/New_York:20251221T100000
DTSTAMP:20260424T062103
CREATED:20251218T162135Z
LAST-MODIFIED:20251218T162135Z
UID:10000340-1766307600-1766311200@www.saintpaulcolumbia.org
SUMMARY:Holy Eucharist - Rite II
DESCRIPTION:The Fourth Sunday of Advent \nThe angel of the Lord appears to Joseph \nOld Testament: Isaiah 7:10-16 \nPsalm 80:1-7\, 16-18 \nThe Epistle: Romans 1:1-7 \nThe Gospel: Matthew 1:18-25
URL:https://www.saintpaulcolumbia.org/event/holy-eucharist-rite-ii-15/
ATTACH;FMTTYPE=image/jpeg:https://www.saintpaulcolumbia.org/wp-content/uploads/fourth_13062c.jpg
END:VEVENT
BEGIN:VEVENT
DTSTART;TZID=America/New_York:20251224T190000
DTEND;TZID=America/New_York:20251224T200000
DTSTAMP:20260424T062103
CREATED:20251218T162412Z
LAST-MODIFIED:20251218T162412Z
UID:10000341-1766602800-1766606400@www.saintpaulcolumbia.org
SUMMARY:Christmas Eve Eucharist - Rite II
DESCRIPTION:The Nativity of Our Lord Jesus Christ: Christmas Eve \nGlory to God in the highest heaven\, and on earth peace among those whom he favors! \nOld Testament: Isaiah 9:2-7 \nPsalm 96 \nThe Epistle: Titus 2:11-14 \nThe Gospel: Luke 2:1-14\, 15-20
URL:https://www.saintpaulcolumbia.org/event/christmas-eve-eucharist-rite-ii/
ATTACH;FMTTYPE=image/jpeg:https://www.saintpaulcolumbia.org/wp-content/uploads/17e7f28cc145bbcc6a93b404b53c7734.jpg
END:VEVENT
BEGIN:VEVENT
DTSTART;TZID=America/New_York:20251228T090000
DTEND;TZID=America/New_York:20251228T100000
DTSTAMP:20260424T062103
CREATED:20251218T162859Z
LAST-MODIFIED:20251218T163115Z
UID:10000342-1766912400-1766916000@www.saintpaulcolumbia.org
SUMMARY:Holy Eucharist - Rite II
DESCRIPTION:The First Sunday after Christmas Day \nIn the beginning was the Word. \nOld Testament: Isaiah 62:6-12 \nPsalm 97 \nThe Epistle: Titus 3:3-7 \nThe Gospel: Luke 2:1-7\, 8-20
URL:https://www.saintpaulcolumbia.org/event/holy-eucharist-rite-ii-16/
ATTACH;FMTTYPE=image/jpeg:https://www.saintpaulcolumbia.org/wp-content/uploads/17e7f28cc145bbcc6a93b404b53c7734.jpg
END:VEVENT
END:VCALENDAR