BEGIN:VCALENDAR
VERSION:2.0
PRODID:-//Saint Paul Episcopal Church - Columbia, PA - ECPv6.15.20//NONSGML v1.0//EN
CALSCALE:GREGORIAN
METHOD:PUBLISH
X-ORIGINAL-URL:https://www.saintpaulcolumbia.org
X-WR-CALDESC:Events for Saint Paul Episcopal Church - Columbia, PA
REFRESH-INTERVAL;VALUE=DURATION:PT1H
X-Robots-Tag:noindex
X-PUBLISHED-TTL:PT1H
BEGIN:VTIMEZONE
TZID:America/New_York
BEGIN:DAYLIGHT
TZOFFSETFROM:-0500
TZOFFSETTO:-0400
TZNAME:EDT
DTSTART:20250309T070000
END:DAYLIGHT
BEGIN:STANDARD
TZOFFSETFROM:-0400
TZOFFSETTO:-0500
TZNAME:EST
DTSTART:20251102T060000
END:STANDARD
BEGIN:DAYLIGHT
TZOFFSETFROM:-0500
TZOFFSETTO:-0400
TZNAME:EDT
DTSTART:20260308T070000
END:DAYLIGHT
BEGIN:STANDARD
TZOFFSETFROM:-0400
TZOFFSETTO:-0500
TZNAME:EST
DTSTART:20261101T060000
END:STANDARD
BEGIN:DAYLIGHT
TZOFFSETFROM:-0500
TZOFFSETTO:-0400
TZNAME:EDT
DTSTART:20270314T070000
END:DAYLIGHT
BEGIN:STANDARD
TZOFFSETFROM:-0400
TZOFFSETTO:-0500
TZNAME:EST
DTSTART:20271107T060000
END:STANDARD
END:VTIMEZONE
BEGIN:VEVENT
DTSTART;TZID=America/New_York:20260505T120000
DTEND;TZID=America/New_York:20260505T130000
DTSTAMP:20260424T063845
CREATED:20260423T145012Z
LAST-MODIFIED:20260423T145204Z
UID:10000380-1777982400-1777986000@www.saintpaulcolumbia.org
SUMMARY:Midday Mass
DESCRIPTION:Martyrs of the Reformation Era\n\nEzekiel 34:1-10 \nPsalm 51:10–17 \n2 Corinthians 4:7–12 \nMatthew 7:1–6
URL:https://www.saintpaulcolumbia.org/event/midday-mass-27/
LOCATION:PA
CATEGORIES:Midday Mass
ATTACH;FMTTYPE=image/png:https://www.saintpaulcolumbia.org/wp-content/uploads/Copy-of-midday-mass-1.png
END:VEVENT
BEGIN:VEVENT
DTSTART;TZID=America/New_York:20260510T090000
DTEND;TZID=America/New_York:20260510T100000
DTSTAMP:20260424T063845
CREATED:20260423T144047Z
LAST-MODIFIED:20260423T144047Z
UID:10000376-1778403600-1778407200@www.saintpaulcolumbia.org
SUMMARY:Morning Prayer - Rite II
DESCRIPTION:The Sixth Sunday of Easter \nJesus promises the coming of the Advocate\, the Holy Spirit\, after his coming departure. \nPsalm 66:7-18 \n1 Peter 3:13-22 \nJohn 14:15-21
URL:https://www.saintpaulcolumbia.org/event/morning-prayer-rite-ii-5/
LOCATION:Saint Paul Episcopal Church\, 340 Locust Street\, Columbia\, PA\, 17512\, United States
CATEGORIES:Morning Prayer
ATTACH;FMTTYPE=image/jpeg:https://www.saintpaulcolumbia.org/wp-content/uploads/hqdefault.jpg
END:VEVENT
BEGIN:VEVENT
DTSTART;TZID=America/New_York:20260517T090000
DTEND;TZID=America/New_York:20260517T100000
DTSTAMP:20260424T063845
CREATED:20260423T144303Z
LAST-MODIFIED:20260423T144303Z
UID:10000377-1779008400-1779012000@www.saintpaulcolumbia.org
SUMMARY:Holy Eucharist - Rite II
DESCRIPTION:The Seventh Sunday of Easter: The Sunday after Ascension Day \nThe disciples await the coming of the Holy Spirit to strengthen them. \nActs 1:6-14 \nPsalm 68:1-10\, 33-36 \n1 Peter 4:12-14; 5:6-11 \nJohn 17:1-11 \n 
URL:https://www.saintpaulcolumbia.org/event/holy-eucharist-rite-ii-31/
LOCATION:Saint Paul Episcopal Church\, 340 Locust Street\, Columbia\, PA\, 17512\, United States
CATEGORIES:Holy Eucharist
ATTACH;FMTTYPE=image/jpeg:https://www.saintpaulcolumbia.org/wp-content/uploads/Liturgical-Season_-Advent-Social-Square.jpg
END:VEVENT
BEGIN:VEVENT
DTSTART;TZID=America/New_York:20260519T120000
DTEND;TZID=America/New_York:20260519T130000
DTSTAMP:20260424T063845
CREATED:20260423T145256Z
LAST-MODIFIED:20260423T145437Z
UID:10000381-1779192000-1779195600@www.saintpaulcolumbia.org
SUMMARY:Midday Mass
DESCRIPTION:Dunstan\, Archbishop of Canterbury\, 988\n\nExodus 25:31–40 \nPsalm 57:6-11 \nEphesians 5:15-20 \nMatthew 24:42-47
URL:https://www.saintpaulcolumbia.org/event/midday-mass-28/
LOCATION:PA
CATEGORIES:Midday Mass
ATTACH;FMTTYPE=image/png:https://www.saintpaulcolumbia.org/wp-content/uploads/Copy-of-midday-mass-1.png
END:VEVENT
BEGIN:VEVENT
DTSTART;TZID=America/New_York:20260524T090000
DTEND;TZID=America/New_York:20260524T100000
DTSTAMP:20260424T063845
CREATED:20260423T144509Z
LAST-MODIFIED:20260423T144509Z
UID:10000378-1779613200-1779616800@www.saintpaulcolumbia.org
SUMMARY:Holy Eucharist - Rite II
DESCRIPTION:The Day of Pentecost \nCome Holy Spirit\, our souls inspire! \nActs 2:1-21 \nPsalm 104:25-35\, 37 \n1 Corinthians 123:3b-13 \nJohn 20:19-23
URL:https://www.saintpaulcolumbia.org/event/holy-eucharist-rite-ii-32/
LOCATION:Saint Paul Episcopal Church\, 340 Locust Street\, Columbia\, PA\, 17512\, United States
CATEGORIES:Holy Eucharist
ATTACH;FMTTYPE=image/jpeg:https://www.saintpaulcolumbia.org/wp-content/uploads/Pentecost.jpg
END:VEVENT
BEGIN:VEVENT
DTSTART;TZID=America/New_York:20260526T120000
DTEND;TZID=America/New_York:20260526T130000
DTSTAMP:20260424T063845
CREATED:20260423T145757Z
LAST-MODIFIED:20260423T145757Z
UID:10000382-1779796800-1779800400@www.saintpaulcolumbia.org
SUMMARY:Midday Mass
DESCRIPTION:Augustine\, First Archbishop of Canterbury\, 605\n\nWe honor Augustine of Canterbury\, sent by Pope Gregory the Great to bring the Gospel to Anglo-Saxon England. Arriving in 597\, Augustine baptized King Ethelbert and became the first Archbishop of Canterbury. His mission laid the foundations for English Christianity and exemplified patience\, wisdom\, and cultural sensitivity. Augustine’s willingness to adapt Roman\, Gallican\, and local customs shaped a Church rooted in unity and diversity. \n“That all whom you call and send may do your will\, bide your time\, and see your glory.” \n\nTobit 13:1\, 10-11 \nPsalm 66:1-8 \n2 Corinthians 5:17-21 \nLuke 5:1-11
URL:https://www.saintpaulcolumbia.org/event/midday-mass-29/
LOCATION:Saint Paul Episcopal Church\, 340 Locust Street\, Columbia\, PA\, 17512\, United States
CATEGORIES:Midday Mass
ATTACH;FMTTYPE=image/png:https://www.saintpaulcolumbia.org/wp-content/uploads/Copy-of-midday-mass-1.png
END:VEVENT
BEGIN:VEVENT
DTSTART;TZID=America/New_York:20260531T090000
DTEND;TZID=America/New_York:20260531T100000
DTSTAMP:20260424T063846
CREATED:20260423T144722Z
LAST-MODIFIED:20260423T144722Z
UID:10000379-1780218000-1780221600@www.saintpaulcolumbia.org
SUMMARY:Holy Eucharist - Rite II
DESCRIPTION:The First Sunday After Pentecost: Trinity Sunday \nOne God in Three Persons reminds us that relationship and relationality are at the heart of who God is and who we are. \nGenesis 1:1-2:4a \nPsalm 8 \n2 Corinthians 13:11-13 \nMatthew 28:16-20
URL:https://www.saintpaulcolumbia.org/event/holy-eucharist-rite-ii-33/
LOCATION:Saint Paul Episcopal Church\, 340 Locust Street\, Columbia\, PA\, 17512\, United States
CATEGORIES:Holy Eucharist
ATTACH;FMTTYPE=image/jpeg:https://www.saintpaulcolumbia.org/wp-content/uploads/Trinity-Sunday-1.jpg
END:VEVENT
END:VCALENDAR