BEGIN:VCALENDAR
VERSION:2.0
PRODID:-//Saint Paul Episcopal Church - Columbia, PA - ECPv6.15.20//NONSGML v1.0//EN
CALSCALE:GREGORIAN
METHOD:PUBLISH
X-WR-CALNAME:Saint Paul Episcopal Church - Columbia, PA
X-ORIGINAL-URL:https://www.saintpaulcolumbia.org
X-WR-CALDESC:Events for Saint Paul Episcopal Church - Columbia, PA
REFRESH-INTERVAL;VALUE=DURATION:PT1H
X-Robots-Tag:noindex
X-PUBLISHED-TTL:PT1H
BEGIN:VTIMEZONE
TZID:America/New_York
BEGIN:DAYLIGHT
TZOFFSETFROM:-0500
TZOFFSETTO:-0400
TZNAME:EDT
DTSTART:20250309T070000
END:DAYLIGHT
BEGIN:STANDARD
TZOFFSETFROM:-0400
TZOFFSETTO:-0500
TZNAME:EST
DTSTART:20251102T060000
END:STANDARD
BEGIN:DAYLIGHT
TZOFFSETFROM:-0500
TZOFFSETTO:-0400
TZNAME:EDT
DTSTART:20260308T070000
END:DAYLIGHT
BEGIN:STANDARD
TZOFFSETFROM:-0400
TZOFFSETTO:-0500
TZNAME:EST
DTSTART:20261101T060000
END:STANDARD
BEGIN:DAYLIGHT
TZOFFSETFROM:-0500
TZOFFSETTO:-0400
TZNAME:EDT
DTSTART:20270314T070000
END:DAYLIGHT
BEGIN:STANDARD
TZOFFSETFROM:-0400
TZOFFSETTO:-0500
TZNAME:EST
DTSTART:20271107T060000
END:STANDARD
END:VTIMEZONE
BEGIN:VEVENT
DTSTART;TZID=America/New_York:20260402T173000
DTEND;TZID=America/New_York:20260402T193000
DTSTAMP:20260424T083943
CREATED:20260317T155644Z
LAST-MODIFIED:20260317T155644Z
UID:10000368-1775151000-1775158200@www.saintpaulcolumbia.org
SUMMARY:Maundy Thursday Supper & Service
DESCRIPTION:Maundy Thursday\nJust as I have loved you\, you should also love one another. \nMaundy Thursday in the Episcopal tradition is the Thursday of Holy Week commemorating the Last Supper\, where Jesus instituted the Eucharist and washed his disciples’ feet\, giving the “new commandment: to love one another. \nWe will join together for a meal beginning at 5:30\, followed by a service of Holy Eucharist at 6:45\, which will include foot washing and the solemn stripping of the altar.
URL:https://www.saintpaulcolumbia.org/event/maundy-thursday-supper-service/
LOCATION:Saint Paul Episcopal Church\, 340 Locust Street\, Columbia\, PA\, 17512\, United States
CATEGORIES:Holy Eucharist,Holy Week
ATTACH;FMTTYPE=image/jpeg:https://www.saintpaulcolumbia.org/wp-content/uploads/dark-to-light.original.jpg
END:VEVENT
BEGIN:VEVENT
DTSTART;TZID=America/New_York:20260405T090000
DTEND;TZID=America/New_York:20260405T103000
DTSTAMP:20260424T083943
CREATED:20260317T152114Z
LAST-MODIFIED:20260319T201546Z
UID:10000363-1775379600-1775385000@www.saintpaulcolumbia.org
SUMMARY:Holy Eucharist - Rite II
DESCRIPTION:The Sunday of the Resurrection: Easter Day\nAlleluia! Christ is Risen! \n 
URL:https://www.saintpaulcolumbia.org/event/holy-eucharist-rite-ii-27/
LOCATION:Saint Paul Episcopal Church\, 340 Locust Street\, Columbia\, PA\, 17512\, United States
CATEGORIES:Holy Eucharist,Holy Week
ATTACH;FMTTYPE=image/jpeg:https://www.saintpaulcolumbia.org/wp-content/uploads/715e8fe0f8b5151dd7767632e9abdb03-scaled.jpg
END:VEVENT
BEGIN:VEVENT
DTSTART;TZID=America/New_York:20260412T090000
DTEND;TZID=America/New_York:20260412T100000
DTSTAMP:20260424T083943
CREATED:20260317T152419Z
LAST-MODIFIED:20260407T165433Z
UID:10000364-1775984400-1775988000@www.saintpaulcolumbia.org
SUMMARY:Morning Prayer - Rite II
DESCRIPTION:The Second Sunday of Easter\nJesus appears to his disciples and then to Thomas \nActs 2:14a\, 22-32 \nPsalm 16 \n1 Peter 1:3-9 \nJohn 20:10-31
URL:https://www.saintpaulcolumbia.org/event/morning-prayer-rite-ii-4/
LOCATION:PA
CATEGORIES:Morning Prayer
ATTACH;FMTTYPE=image/png:https://www.saintpaulcolumbia.org/wp-content/uploads/Copy-of-midday-mass-4.png
END:VEVENT
BEGIN:VEVENT
DTSTART;TZID=America/New_York:20260414T120000
DTEND;TZID=America/New_York:20260414T123000
DTSTAMP:20260424T083943
CREATED:20260407T165038Z
LAST-MODIFIED:20260407T165038Z
UID:10000370-1776168000-1776169800@www.saintpaulcolumbia.org
SUMMARY:Noonday Prayer
DESCRIPTION:Zenaida\, Philonella\, and Hermione\, Unmercenary Physicians\, c.100\, c.117 \nEcclesiasticus 38:1–15 \nPsalm 147 \nActs 2:42-47 \nMark 1:29–34
URL:https://www.saintpaulcolumbia.org/event/noonday-prayer/
LOCATION:Saint Paul Episcopal Church\, 340 Locust Street\, Columbia\, PA\, 17512\, United States
CATEGORIES:Noonday Prayer
ATTACH;FMTTYPE=image/jpeg:https://www.saintpaulcolumbia.org/wp-content/uploads/Liturgical-Season_-Advent-Social-Square.jpg
END:VEVENT
BEGIN:VEVENT
DTSTART;TZID=America/New_York:20260419T090000
DTEND;TZID=America/New_York:20260419T100000
DTSTAMP:20260424T083943
CREATED:20260407T165311Z
LAST-MODIFIED:20260407T165311Z
UID:10000371-1776589200-1776592800@www.saintpaulcolumbia.org
SUMMARY:Holy Eucharist - Rite II
DESCRIPTION:The Third Sunday of Easter \nJesus appears to his disciples in the breaking open of scripture and the breaking of the bread \n\nActs 2:14a\,36-41\n1 Peter 1:17-23\nLuke 24:13-35\nPsalm 116:1-3\, 10-17
URL:https://www.saintpaulcolumbia.org/event/holy-eucharist-rite-ii-28/
LOCATION:PA
CATEGORIES:Holy Eucharist
ATTACH;FMTTYPE=image/jpeg:https://www.saintpaulcolumbia.org/wp-content/uploads/Liturgical-Season_-Advent-Social-Square.jpg
END:VEVENT
BEGIN:VEVENT
DTSTART;TZID=America/New_York:20260421T120000
DTEND;TZID=America/New_York:20260421T130000
DTSTAMP:20260424T083943
CREATED:20260407T165630Z
LAST-MODIFIED:20260407T165630Z
UID:10000372-1776772800-1776776400@www.saintpaulcolumbia.org
SUMMARY:Midday Mass
DESCRIPTION:Anselm of Canterbury\, Archbishop of Canterbury and Theologian\, 1109\nWisdom 6:12-16 \nPsalm 108:1-6 \nRomans 5:1-11 \nMatthew 11:25-30
URL:https://www.saintpaulcolumbia.org/event/midday-mass-25/
LOCATION:PA
CATEGORIES:Midday Mass
ATTACH;FMTTYPE=image/jpeg:https://www.saintpaulcolumbia.org/wp-content/uploads/Liturgical-Season_-Advent-Social-Square.jpg
END:VEVENT
BEGIN:VEVENT
DTSTART;TZID=America/New_York:20260426T090000
DTEND;TZID=America/New_York:20260426T100000
DTSTAMP:20260424T083943
CREATED:20260407T165809Z
LAST-MODIFIED:20260407T165809Z
UID:10000373-1777194000-1777197600@www.saintpaulcolumbia.org
SUMMARY:Holy Eucharist - Rite II
DESCRIPTION:The Fourth Sunday of Easter\nJesus said to them\, “Very truly\, I tell you\, I am the gate for the sheep.” \n\nActs 2:42-47\n1 Peter 2:19-25\nJohn 10:1-10\nPsalm 23
URL:https://www.saintpaulcolumbia.org/event/holy-eucharist-rite-ii-29/
LOCATION:PA
CATEGORIES:Holy Eucharist
ATTACH;FMTTYPE=image/jpeg:https://www.saintpaulcolumbia.org/wp-content/uploads/Liturgical-Season_-Advent-Social-Square.jpg
END:VEVENT
BEGIN:VEVENT
DTSTART;TZID=America/New_York:20260428T120000
DTEND;TZID=America/New_York:20260428T130000
DTSTAMP:20260424T083943
CREATED:20260407T165905Z
LAST-MODIFIED:20260423T152702Z
UID:10000374-1777377600-1777381200@www.saintpaulcolumbia.org
SUMMARY:Midday Mass
DESCRIPTION:Catherine of Siena\, Mystic and Prophetic Witness\, 1380\n\nYoungest of twenty-five children\, Catherine Benincasa of Siena experienced a vision at age six that set her on a lifelong path of prayer\, service\, and fearless witness. Though criticized and misunderstood\, she remained committed to Jesus and served the sick during times of plague. Her spiritual authority grew\, and her letters to popes and rulers urged peace and reform during the great papal schism. She is remembered for her mystical writings and her unwavering conviction that God had claimed her heart completely. \n“Grant unto us the same strength of conviction and power of love that\, as we rejoice in her triumph\, we may profit by her example.” \n  \nLamentations 3:31-36 \nPsalm 36 \n1 John 1:5-2:2 \nLuke 12:22-31
URL:https://www.saintpaulcolumbia.org/event/midday-mass-26/
LOCATION:PA
CATEGORIES:Midday Mass
ATTACH;FMTTYPE=image/jpeg:https://www.saintpaulcolumbia.org/wp-content/uploads/Liturgical-Season_-Advent-Social-Square.jpg
END:VEVENT
BEGIN:VEVENT
DTSTART;TZID=America/New_York:20260503T090000
DTEND;TZID=America/New_York:20260503T100000
DTSTAMP:20260424T083943
CREATED:20260423T143859Z
LAST-MODIFIED:20260423T143859Z
UID:10000375-1777798800-1777802400@www.saintpaulcolumbia.org
SUMMARY:Holy Eucharist - Rite II
DESCRIPTION:The Fifth Sunday of Easter \nJesus tells us and his disciples\, “I am the way\, and the truth\, and the life.” \nActs 7:55-60 \nPsalm 31:1-5\, 15-16 \n1 Peter 2:2-10 \nJohn 14:1-14
URL:https://www.saintpaulcolumbia.org/event/holy-eucharist-rite-ii-30/
LOCATION:Saint Paul Episcopal Church\, 340 Locust Street\, Columbia\, PA\, 17512\, United States
CATEGORIES:Holy Eucharist
ATTACH;FMTTYPE=image/jpeg:https://www.saintpaulcolumbia.org/wp-content/uploads/Liturgical-Season_-Advent-Social-Square.jpg
END:VEVENT
BEGIN:VEVENT
DTSTART;TZID=America/New_York:20260505T120000
DTEND;TZID=America/New_York:20260505T130000
DTSTAMP:20260424T083943
CREATED:20260423T145012Z
LAST-MODIFIED:20260423T145204Z
UID:10000380-1777982400-1777986000@www.saintpaulcolumbia.org
SUMMARY:Midday Mass
DESCRIPTION:Martyrs of the Reformation Era\n\nEzekiel 34:1-10 \nPsalm 51:10–17 \n2 Corinthians 4:7–12 \nMatthew 7:1–6
URL:https://www.saintpaulcolumbia.org/event/midday-mass-27/
LOCATION:PA
CATEGORIES:Midday Mass
ATTACH;FMTTYPE=image/png:https://www.saintpaulcolumbia.org/wp-content/uploads/Copy-of-midday-mass-1.png
END:VEVENT
BEGIN:VEVENT
DTSTART;TZID=America/New_York:20260510T090000
DTEND;TZID=America/New_York:20260510T100000
DTSTAMP:20260424T083943
CREATED:20260423T144047Z
LAST-MODIFIED:20260423T144047Z
UID:10000376-1778403600-1778407200@www.saintpaulcolumbia.org
SUMMARY:Morning Prayer - Rite II
DESCRIPTION:The Sixth Sunday of Easter \nJesus promises the coming of the Advocate\, the Holy Spirit\, after his coming departure. \nPsalm 66:7-18 \n1 Peter 3:13-22 \nJohn 14:15-21
URL:https://www.saintpaulcolumbia.org/event/morning-prayer-rite-ii-5/
LOCATION:Saint Paul Episcopal Church\, 340 Locust Street\, Columbia\, PA\, 17512\, United States
CATEGORIES:Morning Prayer
ATTACH;FMTTYPE=image/jpeg:https://www.saintpaulcolumbia.org/wp-content/uploads/hqdefault.jpg
END:VEVENT
BEGIN:VEVENT
DTSTART;TZID=America/New_York:20260517T090000
DTEND;TZID=America/New_York:20260517T100000
DTSTAMP:20260424T083943
CREATED:20260423T144303Z
LAST-MODIFIED:20260423T144303Z
UID:10000377-1779008400-1779012000@www.saintpaulcolumbia.org
SUMMARY:Holy Eucharist - Rite II
DESCRIPTION:The Seventh Sunday of Easter: The Sunday after Ascension Day \nThe disciples await the coming of the Holy Spirit to strengthen them. \nActs 1:6-14 \nPsalm 68:1-10\, 33-36 \n1 Peter 4:12-14; 5:6-11 \nJohn 17:1-11 \n 
URL:https://www.saintpaulcolumbia.org/event/holy-eucharist-rite-ii-31/
LOCATION:Saint Paul Episcopal Church\, 340 Locust Street\, Columbia\, PA\, 17512\, United States
CATEGORIES:Holy Eucharist
ATTACH;FMTTYPE=image/jpeg:https://www.saintpaulcolumbia.org/wp-content/uploads/Liturgical-Season_-Advent-Social-Square.jpg
END:VEVENT
BEGIN:VEVENT
DTSTART;TZID=America/New_York:20260519T120000
DTEND;TZID=America/New_York:20260519T130000
DTSTAMP:20260424T083943
CREATED:20260423T145256Z
LAST-MODIFIED:20260423T145437Z
UID:10000381-1779192000-1779195600@www.saintpaulcolumbia.org
SUMMARY:Midday Mass
DESCRIPTION:Dunstan\, Archbishop of Canterbury\, 988\n\nExodus 25:31–40 \nPsalm 57:6-11 \nEphesians 5:15-20 \nMatthew 24:42-47
URL:https://www.saintpaulcolumbia.org/event/midday-mass-28/
LOCATION:PA
CATEGORIES:Midday Mass
ATTACH;FMTTYPE=image/png:https://www.saintpaulcolumbia.org/wp-content/uploads/Copy-of-midday-mass-1.png
END:VEVENT
BEGIN:VEVENT
DTSTART;TZID=America/New_York:20260524T090000
DTEND;TZID=America/New_York:20260524T100000
DTSTAMP:20260424T083943
CREATED:20260423T144509Z
LAST-MODIFIED:20260423T144509Z
UID:10000378-1779613200-1779616800@www.saintpaulcolumbia.org
SUMMARY:Holy Eucharist - Rite II
DESCRIPTION:The Day of Pentecost \nCome Holy Spirit\, our souls inspire! \nActs 2:1-21 \nPsalm 104:25-35\, 37 \n1 Corinthians 123:3b-13 \nJohn 20:19-23
URL:https://www.saintpaulcolumbia.org/event/holy-eucharist-rite-ii-32/
LOCATION:Saint Paul Episcopal Church\, 340 Locust Street\, Columbia\, PA\, 17512\, United States
CATEGORIES:Holy Eucharist
ATTACH;FMTTYPE=image/jpeg:https://www.saintpaulcolumbia.org/wp-content/uploads/Pentecost.jpg
END:VEVENT
BEGIN:VEVENT
DTSTART;TZID=America/New_York:20260526T120000
DTEND;TZID=America/New_York:20260526T130000
DTSTAMP:20260424T083943
CREATED:20260423T145757Z
LAST-MODIFIED:20260423T145757Z
UID:10000382-1779796800-1779800400@www.saintpaulcolumbia.org
SUMMARY:Midday Mass
DESCRIPTION:Augustine\, First Archbishop of Canterbury\, 605\n\nWe honor Augustine of Canterbury\, sent by Pope Gregory the Great to bring the Gospel to Anglo-Saxon England. Arriving in 597\, Augustine baptized King Ethelbert and became the first Archbishop of Canterbury. His mission laid the foundations for English Christianity and exemplified patience\, wisdom\, and cultural sensitivity. Augustine’s willingness to adapt Roman\, Gallican\, and local customs shaped a Church rooted in unity and diversity. \n“That all whom you call and send may do your will\, bide your time\, and see your glory.” \n\nTobit 13:1\, 10-11 \nPsalm 66:1-8 \n2 Corinthians 5:17-21 \nLuke 5:1-11
URL:https://www.saintpaulcolumbia.org/event/midday-mass-29/
LOCATION:Saint Paul Episcopal Church\, 340 Locust Street\, Columbia\, PA\, 17512\, United States
CATEGORIES:Midday Mass
ATTACH;FMTTYPE=image/png:https://www.saintpaulcolumbia.org/wp-content/uploads/Copy-of-midday-mass-1.png
END:VEVENT
BEGIN:VEVENT
DTSTART;TZID=America/New_York:20260531T090000
DTEND;TZID=America/New_York:20260531T100000
DTSTAMP:20260424T083943
CREATED:20260423T144722Z
LAST-MODIFIED:20260423T144722Z
UID:10000379-1780218000-1780221600@www.saintpaulcolumbia.org
SUMMARY:Holy Eucharist - Rite II
DESCRIPTION:The First Sunday After Pentecost: Trinity Sunday \nOne God in Three Persons reminds us that relationship and relationality are at the heart of who God is and who we are. \nGenesis 1:1-2:4a \nPsalm 8 \n2 Corinthians 13:11-13 \nMatthew 28:16-20
URL:https://www.saintpaulcolumbia.org/event/holy-eucharist-rite-ii-33/
LOCATION:Saint Paul Episcopal Church\, 340 Locust Street\, Columbia\, PA\, 17512\, United States
CATEGORIES:Holy Eucharist
ATTACH;FMTTYPE=image/jpeg:https://www.saintpaulcolumbia.org/wp-content/uploads/Trinity-Sunday-1.jpg
END:VEVENT
END:VCALENDAR