BEGIN:VCALENDAR
VERSION:2.0
PRODID:-//Saint Paul Episcopal Church - Columbia, PA - ECPv6.15.20//NONSGML v1.0//EN
CALSCALE:GREGORIAN
METHOD:PUBLISH
X-ORIGINAL-URL:https://www.saintpaulcolumbia.org
X-WR-CALDESC:Events for Saint Paul Episcopal Church - Columbia, PA
REFRESH-INTERVAL;VALUE=DURATION:PT1H
X-Robots-Tag:noindex
X-PUBLISHED-TTL:PT1H
BEGIN:VTIMEZONE
TZID:America/New_York
BEGIN:DAYLIGHT
TZOFFSETFROM:-0500
TZOFFSETTO:-0400
TZNAME:EDT
DTSTART:20250309T070000
END:DAYLIGHT
BEGIN:STANDARD
TZOFFSETFROM:-0400
TZOFFSETTO:-0500
TZNAME:EST
DTSTART:20251102T060000
END:STANDARD
BEGIN:DAYLIGHT
TZOFFSETFROM:-0500
TZOFFSETTO:-0400
TZNAME:EDT
DTSTART:20260308T070000
END:DAYLIGHT
BEGIN:STANDARD
TZOFFSETFROM:-0400
TZOFFSETTO:-0500
TZNAME:EST
DTSTART:20261101T060000
END:STANDARD
BEGIN:DAYLIGHT
TZOFFSETFROM:-0500
TZOFFSETTO:-0400
TZNAME:EDT
DTSTART:20270314T070000
END:DAYLIGHT
BEGIN:STANDARD
TZOFFSETFROM:-0400
TZOFFSETTO:-0500
TZNAME:EST
DTSTART:20271107T060000
END:STANDARD
END:VTIMEZONE
BEGIN:VEVENT
DTSTART;TZID=America/New_York:20260106T180000
DTEND;TZID=America/New_York:20260106T183000
DTSTAMP:20260423T064009
CREATED:20251230T162735Z
LAST-MODIFIED:20251230T162735Z
UID:10000346-1767722400-1767724200@www.saintpaulcolumbia.org
SUMMARY:Holy Eucharist - Rite II
DESCRIPTION:The Epiphany \nThe significance of Jesus’ birth is revealed to the world beyond Judea. The Manifestation of Christ to the Gentiles. \nIsaiah 60:1-6 \nPsalm 72:1-7\, 10-14 \nEphesians 3:1-12 \nMatthew 2:1-12
URL:https://www.saintpaulcolumbia.org/event/holy-eucharist-rite-ii-18/
LOCATION:PA
CATEGORIES:Holy Eucharist
ATTACH;FMTTYPE=image/png:https://www.saintpaulcolumbia.org/wp-content/uploads/Epiphany-Header.png
END:VEVENT
END:VCALENDAR