BEGIN:VCALENDAR
VERSION:2.0
PRODID:-//Saint Paul Episcopal Church - Columbia, PA - ECPv6.15.20//NONSGML v1.0//EN
CALSCALE:GREGORIAN
METHOD:PUBLISH
X-WR-CALNAME:Saint Paul Episcopal Church - Columbia, PA
X-ORIGINAL-URL:https://www.saintpaulcolumbia.org
X-WR-CALDESC:Events for Saint Paul Episcopal Church - Columbia, PA
REFRESH-INTERVAL;VALUE=DURATION:PT1H
X-Robots-Tag:noindex
X-PUBLISHED-TTL:PT1H
BEGIN:VTIMEZONE
TZID:America/New_York
BEGIN:DAYLIGHT
TZOFFSETFROM:-0500
TZOFFSETTO:-0400
TZNAME:EDT
DTSTART:20240310T070000
END:DAYLIGHT
BEGIN:STANDARD
TZOFFSETFROM:-0400
TZOFFSETTO:-0500
TZNAME:EST
DTSTART:20241103T060000
END:STANDARD
BEGIN:DAYLIGHT
TZOFFSETFROM:-0500
TZOFFSETTO:-0400
TZNAME:EDT
DTSTART:20250309T070000
END:DAYLIGHT
BEGIN:STANDARD
TZOFFSETFROM:-0400
TZOFFSETTO:-0500
TZNAME:EST
DTSTART:20251102T060000
END:STANDARD
BEGIN:DAYLIGHT
TZOFFSETFROM:-0500
TZOFFSETTO:-0400
TZNAME:EDT
DTSTART:20260308T070000
END:DAYLIGHT
BEGIN:STANDARD
TZOFFSETFROM:-0400
TZOFFSETTO:-0500
TZNAME:EST
DTSTART:20261101T060000
END:STANDARD
END:VTIMEZONE
BEGIN:VEVENT
DTSTART;TZID=America/New_York:20251130T110000
DTEND;TZID=America/New_York:20251130T120000
DTSTAMP:20260423T080421
CREATED:20251106T153706Z
LAST-MODIFIED:20251106T153706Z
UID:10000338-1764500400-1764504000@www.saintpaulcolumbia.org
SUMMARY:No Service at Saint Paul!
DESCRIPTION:There will be no service at Saint Paul today! \nInstead we invite you to join us at Saint Luke\, Mount Joy at 11am. \nFirst Sunday of Advent – Liturgy based on Break the Silence Liturgy from national ECW. \nBrunch and craft activity will follow the service.   
URL:https://www.saintpaulcolumbia.org/event/no-service-at-saint-paul-2/
LOCATION:Saint Luke\, Mount Joy\, 209 South Market Street\, Mount Joy\, PA\, 17552\, United States
CATEGORIES:Holy Eucharist
ATTACH;FMTTYPE=image/jpeg:https://www.saintpaulcolumbia.org/wp-content/uploads/1600px_COLOURBOX9273989.jpg
END:VEVENT
END:VCALENDAR