BEGIN:VCALENDAR
VERSION:2.0
PRODID:-//Saint Paul Episcopal Church - Columbia, PA - ECPv6.15.20//NONSGML v1.0//EN
CALSCALE:GREGORIAN
METHOD:PUBLISH
X-WR-CALNAME:Saint Paul Episcopal Church - Columbia, PA
X-ORIGINAL-URL:https://www.saintpaulcolumbia.org
X-WR-CALDESC:Events for Saint Paul Episcopal Church - Columbia, PA
REFRESH-INTERVAL;VALUE=DURATION:PT1H
X-Robots-Tag:noindex
X-PUBLISHED-TTL:PT1H
BEGIN:VTIMEZONE
TZID:America/New_York
BEGIN:DAYLIGHT
TZOFFSETFROM:-0500
TZOFFSETTO:-0400
TZNAME:EDT
DTSTART:20250309T070000
END:DAYLIGHT
BEGIN:STANDARD
TZOFFSETFROM:-0400
TZOFFSETTO:-0500
TZNAME:EST
DTSTART:20251102T060000
END:STANDARD
BEGIN:DAYLIGHT
TZOFFSETFROM:-0500
TZOFFSETTO:-0400
TZNAME:EDT
DTSTART:20260308T070000
END:DAYLIGHT
BEGIN:STANDARD
TZOFFSETFROM:-0400
TZOFFSETTO:-0500
TZNAME:EST
DTSTART:20261101T060000
END:STANDARD
BEGIN:DAYLIGHT
TZOFFSETFROM:-0500
TZOFFSETTO:-0400
TZNAME:EDT
DTSTART:20270314T070000
END:DAYLIGHT
BEGIN:STANDARD
TZOFFSETFROM:-0400
TZOFFSETTO:-0500
TZNAME:EST
DTSTART:20271107T060000
END:STANDARD
END:VTIMEZONE
BEGIN:VEVENT
DTSTART;TZID=America/New_York:20260215T090000
DTEND;TZID=America/New_York:20260215T100000
DTSTAMP:20260424T042945
CREATED:20260127T194925Z
LAST-MODIFIED:20260127T194925Z
UID:10000352-1771146000-1771149600@www.saintpaulcolumbia.org
SUMMARY:Morning Prayer
DESCRIPTION:The Last Sunday after the Epiphany \nGod’s glory is revealed in Jesus \nPsalm 99 \n2 Peter 1:16-21 \nMatthew 17:1-9
URL:https://www.saintpaulcolumbia.org/event/morning-prayer-7/
CATEGORIES:Morning Prayer
ATTACH;FMTTYPE=image/png:https://www.saintpaulcolumbia.org/wp-content/uploads/Copy-of-midday-mass-4.png
END:VEVENT
END:VCALENDAR